BEGIN:VCALENDAR
VERSION:2.0
PRODID:Imitheme.com 
BEGIN:VEVENT
UID:20260423T1643321939460736
DTSTAMP;TZID=UTC:2026-04-23 16:43:32
DTSTART;TZID=America/Los_Angeles:20260423T164332
DTEND;TZID=America/Los_Angeles:20260423T164332
SUMMARY:Exhibition: Telling My Story: from Darkness to Light
LOCATION:
DESCRIPTION:Telling My Story: from Darkness to Light, is an exhibition of artwork by clients of Yellow Door - a Southampton based charity that supports people affected by domestic and sexual abuse. Through a collection of paintings, drawings, sculptures, poetry and written word, victims and survivors share their stories of trauma, resilience, healing and recovery.
URL:https://godshousetower.org.uk/eventer/exhibition-telling-my-story-from-darkness-to-light/
END:VEVENT
END:VCALENDAR
