BEGIN:VCALENDAR
VERSION:2.0
PRODID:Imitheme.com 
BEGIN:VEVENT
UID:20260424T0730071393000169
DTSTAMP;TZID=UTC:2026-04-24 07:30:07
DTSTART;TZID=America/Los_Angeles:20260424T073007
DTEND;TZID=America/Los_Angeles:20260424T073007
SUMMARY:Spooky Candle-Lit Trail with J_Ace Faces!
LOCATION:
DESCRIPTION:🎃 Face Your Fears – Free, Family-Friendly Halloween Adventure in Southampton! Explore a spooky, candle-lit trail at God’s House Tower and discover all the hidden J_Ace faces!
URL:https://godshousetower.org.uk/eventer/spooky-candle-lit-halloween-trail-with-j_ace-faces/
END:VEVENT
END:VCALENDAR
