BEGIN:VCALENDAR
VERSION:2.0
PRODID:Imitheme.com 
BEGIN:VEVENT
UID:20260419T1425551606759967
DTSTAMP;TZID=UTC:2026-04-19 14:25:55
DTSTART;TZID=America/Los_Angeles:20260419T142555
DTEND;TZID=America/Los_Angeles:20260419T142555
SUMMARY:Workshop: Let’s Make a Zine with Weird is the Best
LOCATION:
DESCRIPTION:Join a beginner-friendly zine-making workshop at God’s House Tower. Create your own handmade folded book and enjoy a relaxed, creative session.
URL:https://godshousetower.org.uk/eventer/workshop-lets-make-a-zine-with-weird-is-the-best/
END:VEVENT
END:VCALENDAR
