BEGIN:VCALENDAR
VERSION:2.0
PRODID:Imitheme.com 
BEGIN:VEVENT
UID:20260424T083639255954354
DTSTAMP;TZID=UTC:2026-04-24 08:36:39
DTSTART;TZID=America/Los_Angeles:20260424T083639
DTEND;TZID=America/Los_Angeles:20260424T083639
SUMMARY:Exhibition - Embodied Knowledge: Traces of Our Making
LOCATION:
DESCRIPTION:Discover Traces of Our Making at God’s House Tower, showcasing women’s creativity through workshops in clay, weaving and Madhubani painting in Southampton.
URL:https://godshousetower.org.uk/eventer/exhibition-embodied-knowledge-traces-of-our-making/
END:VEVENT
END:VCALENDAR
