BEGIN:VCALENDAR
VERSION:2.0
PRODID:Imitheme.com 
BEGIN:VEVENT
UID:20260424T1053261847765217
DTSTAMP;TZID=UTC:2026-04-24 10:53:26
DTSTART;TZID=America/Los_Angeles:20260424T105326
DTEND;TZID=America/Los_Angeles:20260424T105326
SUMMARY:Launch Event: Embodied Knowledge: Traces of Our Making
LOCATION:
DESCRIPTION:An exhibition by Create + Connect showcasing women’s creativity through clay, weaving and Madhubani painting workshops in Southampton.
URL:https://godshousetower.org.uk/eventer/launch-event-embodied-knowledge-traces-of-our-making/
END:VEVENT
END:VCALENDAR
