BEGIN:VCALENDAR
VERSION:2.0
PRODID:Imitheme.com 
BEGIN:VEVENT
UID:20260421T1853561207041317
DTSTAMP;TZID=UTC:2026-04-21 18:53:56
DTSTART;TZID=America/Los_Angeles:20260421T185356
DTEND;TZID=America/Los_Angeles:20260421T185356
SUMMARY:(N)YTMG presents: An Evening with Harriet Riley and Alex Garden
LOCATION:
DESCRIPTION:(N)YTMG presents: An Evening with Harriet Riley and Alex Garden concinnity /kənˈsɪnɪti/ (n.) a harmonious arrangement of parts. In the depths of winter, what could be better than an evening of folk-inflected pastoral adventures that summon up the most delicious of sunny, summer days.  The unusual juxtaposition of vibraphone and fiddle allows Harriet and Alex to open up new creative landscapes.  Their arcane, single-word tune titles act as a guide as they bridge different musical worlds to forge their own beguiling soundscapes.  The harmonies created by the instruments as they interweave produce a ‘stunning mix of dreamlike atmospheres and mesmerising energy’. The 15th century Crawford Room will provide an atmospheric backdrop to an evening of bewitching harmonies: come and be enchanted... Tickets The event will take place on Friday 25th February from 7:30pm - 10pm. Tickets are £10.00. You can get your ticket via Eventbrite here  About the Musicians  Harriet Riley & Alex Garden’s debut album presents a novel, hypnotic dialogue between a highly unusual pairing of instruments: fiddle and vibraphone.  Inspired by arcane single word track titles, obscure definitions are presented to guide the listener’s attention through their original compositions, taking in trad folk, minimalism and jazz along the way. The album was recorded in Bristol during the summer of 2020 and released in November the same year. Their February 2022 tour features special guest Stevie Toddler on double-bass, promising to transfix audiences far and wide with their captivating new sound-world. Vibraphone: Harriet Riley Fiddle, Octave Fiddle: Alex Garden Double Bass: Stevie Toddler Follow on Facebook Follow on Bandcamp About (N)YTMG (Not) Your Trusted Music Guide is an accessible, fully searchable list of live events in (and around) Southampton which tries to cover music, theatre, dance, circus, spoken word and more.  The intention is to remove any excuse to miss a gig through ignorance or claim there was nothing going on in the city.  Now, more than ever, local artists and venues need our support.
URL:https://godshousetower.org.uk/eventer/nymg-presents-an-evening-with-harriet-riley-and-alex-garden/
END:VEVENT
END:VCALENDAR
