BEGIN:VCALENDAR
VERSION:2.0
PRODID:Imitheme.com 
BEGIN:VEVENT
UID:20260424T090436417067105
DTSTAMP;TZID=UTC:2026-04-24 09:04:36
DTSTART;TZID=America/Los_Angeles:20260424T090436
DTEND;TZID=America/Los_Angeles:20260424T090436
SUMMARY:Lucky Dip 2023
LOCATION:
DESCRIPTION:  Lucky Dip is a new exhibition bringing together local artists in an exciting multi-disciplinary showcase of artworks. This exhibition brings together new work by ten local artists working in multiple disciplines and mediums. From painting to printmaking, film and installation, the work is informed by a multitude of ideas, processes and practices.  The exhibiting artists are recipients of an experimental grant programme, launched by ‘a space’ arts in 2021. The Lucky Dip bursary scheme offered ten artists in the SO postcode £500 to fund the creation of a new artwork or activity. In order to remove barriers around access and inclusion, proposals were not assessed and bursaries were awarded to artists through a lottery selection.  The scheme has provided financial support and a well-needed boost of positivity at a time when many artists are facing huge challenges. The bursaries enabled the artists to experiment and take risks to push their practice forward.  As part of ‘a space’ arts\' mission to work towards becoming an anti-racist organisation, five of the Lucky Dip bursaries were awarded to Global Majority artists. The artists exhibiting in Lucky Dip 2023 are: Maria Bates Sharron Bruty Sal Chitulu Intan Cade Helen Harvey Ebonie Inch جميمة Violetta Liszka Lucy Pick Rabia Raja. Missed out on the Launch Event? Don’t worry you can visit out Youtube Channel to watch a Digital Visual Guide of the Exhibition here https://www.youtube.com/watch?v=Cwat-a-pgbc&t=105s You can find out more about the Lucky Dip Bursary here
URL:https://godshousetower.org.uk/eventer/lucky-dip-2023-2/
END:VEVENT
END:VCALENDAR
