BEGIN:VCALENDAR
VERSION:2.0
PRODID:Imitheme.com 
BEGIN:VEVENT
UID:20260424T0719062127515205
DTSTAMP;TZID=UTC:2026-04-24 07:19:06
DTSTART;TZID=America/Los_Angeles:20260424T071906
DTEND;TZID=America/Los_Angeles:20260424T071906
SUMMARY:Christmas Makers Market
LOCATION:
DESCRIPTION:Join us for our annual celebration of artists and makers for THREE festive weekends in December at the GHT Christmas Makers Market! The market will play host to a gathering of talented independent makers and artists across the region, click through the following dates to find out which Makers will be there: Saturday 2nd December Sunday 3rd December Saturday 9th December Sunday 10th December Saturday 16th December Sunday 17th December The market will play host to a gathering of talented independent makers and artists across the region. These talented artists will be showcasing their finest artisan crafts and unique gifts, ranging from ceramics and homeware to handcrafted jewellery and bespoke prints. The GHT Christmas Makers Market is your go-to spot for a one-of-a-kind Christmas shopping experience that not only supports local artists but also ensures your loved ones receive truly exceptional gifts.
URL:https://godshousetower.org.uk/eventer/christmas-makers-market-at-ght/
END:VEVENT
END:VCALENDAR
