BEGIN:VCALENDAR
VERSION:2.0
PRODID:Imitheme.com 
BEGIN:VEVENT
UID:20260424T0846061567282174
DTSTAMP;TZID=UTC:2026-04-24 08:46:06
DTSTART;TZID=America/Los_Angeles:20260424T084606
DTEND;TZID=America/Los_Angeles:20260424T084606
SUMMARY:Christmas Makers Market - Sunday 3rd
LOCATION:
DESCRIPTION:Join us for our annual celebration of artists and makers for THREE festive weekends in December at the GHT Christmas Makers Market! 2nd & 3rd December, 9th & 10th December, 16th & 17th December. The market will play host to a gathering of talented independent makers and artists across the region. These talented artists will be showcasing their finest artisan crafts and unique gifts, ranging from ceramics and homeware to handcrafted jewellery and bespoke prints. The GHT Christmas Makers Market is your go-to spot for a one-of-a-kind Christmas shopping experience that not only supports local artists but also ensures your loved ones receive truly exceptional gifts. Have a look at the poster below to get to know the artists who will be at the Makers Market on Sunday 3rd December!
URL:https://godshousetower.org.uk/eventer/christmas-makers-market-at-ght-2/
END:VEVENT
END:VCALENDAR
